BEGIN:VCALENDAR
VERSION:2.0
PRODID:-//
CALSCALE:GREGORIAN
X-WR-TIMEZONE:Europe/Berlin
BEGIN:VEVENT
LOCATION:Brückenstern\, Stresemannstraße 133\, 22769\, Hamburg\, Germany
DESCRIPTION:Artful Earfull vereint fünf ausdrucksstarke Persönlichkeiten\, welche sich durch ihre hohe Emotionalität und ihre Virtuosität auszeichnen. • Dan Gottshall (trb\, voc) · Sandra Hempel (git) · Buggy Braune (p) · Oliver Karstens (b) · Konrad Ullrich (dr)
DTSTART:20260610T200000
DTEND:20260610T220000
SUMMARY:Dan Gottshall‘s Artful Earfull
URL;VALUE=URI:
DTSTAMP:20260422T124653
UID:69e8c33d6e6f3
END:VEVENT
END:VCALENDAR