BEGIN:VCALENDAR
VERSION:2.0
PRODID:-//
CALSCALE:GREGORIAN
X-WR-TIMEZONE:Europe/Berlin
BEGIN:VEVENT
LOCATION:White Cube Bergedorf\, Kurt-A.-Körber-Chaussee 73\, 21033\, Hamburg\, Germany
DESCRIPTION: • 
DTSTART:20260627T200000
DTEND:20260627T220000
SUMMARY:JAM Session - 204
URL;VALUE=URI:https://www.whitecube-bergedorf.de/index.php?id=3
DTSTAMP:20260422T125458
UID:69e8c522c5a47
END:VEVENT
END:VCALENDAR