BEGIN:VCALENDAR
VERSION:2.0
PRODID:-//
CALSCALE:GREGORIAN
X-WR-TIMEZONE:Europe/Berlin
BEGIN:VEVENT
LOCATION:Kranhaus Elmshorn\, Schloßstraße 8\, 25336\, Elmshorn\, Germany
DESCRIPTION: • 
DTSTART:20260821T200000
DTEND:20260821T220000
SUMMARY:Jazz am Freitag: Nina Reloaded
URL;VALUE=URI:https://www.kranhaus-elmshorn.de/veranstaltungen/
DTSTAMP:20260422T125755
UID:69e8c5d343d8e
END:VEVENT
END:VCALENDAR