BEGIN:VCALENDAR
VERSION:2.0
PRODID:-//
CALSCALE:GREGORIAN
X-WR-TIMEZONE:Europe/Berlin
BEGIN:VEVENT
LOCATION:Birdland\, Gärtnerstraße 122\, 20253\, Hamburg\, Germany
DESCRIPTION:A Tribute to the World’s Greatest Fusion Band • Konstantin Herleinsberger (ts) · Mischa Schumann (p) · Arnd Geise (b) · Felix Dehmel (dr)
DTSTART:20260619T203000
DTEND:20260619T220000
SUMMARY:Weather Report Project
URL;VALUE=URI:
DTSTAMP:20260422T124215
UID:69e8c227317a9
END:VEVENT
END:VCALENDAR